BEGIN:VCALENDAR
VERSION:2.0
PRODID:-//LGT FELIX PROTO - ECPv6.15.12.2//NONSGML v1.0//EN
CALSCALE:GREGORIAN
METHOD:PUBLISH
X-ORIGINAL-URL:https://felixproto.lyc.ac-guadeloupe.fr
X-WR-CALDESC:Évènements pour LGT FELIX PROTO
REFRESH-INTERVAL;VALUE=DURATION:PT1H
X-Robots-Tag:noindex
X-PUBLISHED-TTL:PT1H
BEGIN:VTIMEZONE
TZID:America/Halifax
BEGIN:DAYLIGHT
TZOFFSETFROM:-0400
TZOFFSETTO:-0300
TZNAME:ADT
DTSTART:20240310T060000
END:DAYLIGHT
BEGIN:STANDARD
TZOFFSETFROM:-0300
TZOFFSETTO:-0400
TZNAME:AST
DTSTART:20241103T050000
END:STANDARD
BEGIN:DAYLIGHT
TZOFFSETFROM:-0400
TZOFFSETTO:-0300
TZNAME:ADT
DTSTART:20250309T060000
END:DAYLIGHT
BEGIN:STANDARD
TZOFFSETFROM:-0300
TZOFFSETTO:-0400
TZNAME:AST
DTSTART:20251102T050000
END:STANDARD
BEGIN:DAYLIGHT
TZOFFSETFROM:-0400
TZOFFSETTO:-0300
TZNAME:ADT
DTSTART:20260308T060000
END:DAYLIGHT
BEGIN:STANDARD
TZOFFSETFROM:-0300
TZOFFSETTO:-0400
TZNAME:AST
DTSTART:20261101T050000
END:STANDARD
END:VTIMEZONE
BEGIN:VEVENT
DTSTART;TZID=America/Halifax:20250203T080000
DTEND;TZID=America/Halifax:20250207T170000
DTSTAMP:20260425T205733
CREATED:20250202T155740Z
LAST-MODIFIED:20250206T155840Z
UID:3242-1738569600-1738947600@felixproto.lyc.ac-guadeloupe.fr
SUMMARY:Semaine de la cordées de la réussite
DESCRIPTION:
URL:https://felixproto.lyc.ac-guadeloupe.fr/event/semaine-de-la-cordees-de-la-reussite/
LOCATION:Académie Guadeloupe
CATEGORIES:Études
END:VEVENT
BEGIN:VEVENT
DTSTART;TZID=America/Halifax:20250212T080000
DTEND;TZID=America/Halifax:20250214T170000
DTSTAMP:20260425T205733
CREATED:20250206T155903Z
LAST-MODIFIED:20250206T160009Z
UID:3246-1739347200-1739552400@felixproto.lyc.ac-guadeloupe.fr
SUMMARY:Salon d'Orientaion de la Formation et des Métiers
DESCRIPTION:
URL:https://felixproto.lyc.ac-guadeloupe.fr/event/salon-dorientaion-de-la-formation-et-des-metiers/
CATEGORIES:Études
END:VEVENT
BEGIN:VEVENT
DTSTART;TZID=America/Halifax:20250214T080000
DTEND;TZID=America/Halifax:20250214T170000
DTSTAMP:20260425T205733
CREATED:20250206T160047Z
LAST-MODIFIED:20250206T160147Z
UID:3249-1739520000-1739552400@felixproto.lyc.ac-guadeloupe.fr
SUMMARY:Forum info Post - Bac
DESCRIPTION:
URL:https://felixproto.lyc.ac-guadeloupe.fr/event/forum-info-post-bac/
LOCATION:Lycée Raoul Georges Nicolo
CATEGORIES:Études
END:VEVENT
BEGIN:VEVENT
DTSTART;TZID=America/Halifax:20250214T080000
DTEND;TZID=America/Halifax:20250214T170000
DTSTAMP:20260425T205733
CREATED:20250206T160250Z
LAST-MODIFIED:20250206T160347Z
UID:3253-1739520000-1739552400@felixproto.lyc.ac-guadeloupe.fr
SUMMARY:Journée Portes Ouvertes Lycée des Métiers\, de l'Habitat\, du Bâtiment et des Services Associés Bertène Juminer
DESCRIPTION:
URL:https://felixproto.lyc.ac-guadeloupe.fr/event/journee-portes-ouvertes-lycee-des-metiers-de-lhabitat-du-batiment-et-des-services-associes-bertene-juminer/
LOCATION:Lycée des Métiers\, de l’Habitat\, du Bâtiment et des Services Associés Bertène Juminer
CATEGORIES:Études
END:VEVENT
BEGIN:VEVENT
DTSTART;TZID=America/Halifax:20250220T080000
DTEND;TZID=America/Halifax:20250220T130000
DTSTAMP:20260425T205733
CREATED:20250206T160431Z
LAST-MODIFIED:20250206T160550Z
UID:3257-1740038400-1740056400@felixproto.lyc.ac-guadeloupe.fr
SUMMARY:Journée Portes Ouvertes CHU - IFSI Pointe - à - Pitre
DESCRIPTION:
URL:https://felixproto.lyc.ac-guadeloupe.fr/event/journee-portes-ouvertes-chu-ifsi-pointe-a-pitre/
LOCATION:CHU Pointe-à-Pitre
CATEGORIES:Études
END:VEVENT
END:VCALENDAR